BEGIN:VCALENDAR
VERSION:2.0
PRODID:-//German Shorthaired Pointer Club of Oregon - ECPv5.8.0//NONSGML v1.0//EN
CALSCALE:GREGORIAN
METHOD:PUBLISH
X-WR-CALNAME:German Shorthaired Pointer Club of Oregon
X-ORIGINAL-URL:http://gspcluboforegon.org
X-WR-CALDESC:Events for German Shorthaired Pointer Club of Oregon
BEGIN:VTIMEZONE
TZID:America/Denver
BEGIN:DAYLIGHT
TZOFFSETFROM:-0700
TZOFFSETTO:-0600
TZNAME:MDT
DTSTART:20160313T090000
END:DAYLIGHT
BEGIN:STANDARD
TZOFFSETFROM:-0600
TZOFFSETTO:-0700
TZNAME:MST
DTSTART:20161106T080000
END:STANDARD
END:VTIMEZONE
BEGIN:VEVENT
DTSTART;TZID=America/Denver:20160120T090000
DTEND;TZID=America/Denver:20160120T170000
DTSTAMP:20260425T125230
CREATED:20151224T195808Z
LAST-MODIFIED:20151224T195808Z
UID:844-1453280400-1453309200@gspcluboforegon.org
SUMMARY:GSP Specialty Shows
DESCRIPTION:GSP Club of Oregon Specialty Shows.  Two specialties on one day. \nQuestions:  Show Chair Cathy Beach \nE-mail:  54c7170b@gmail.com \nTROPHY DONATIONS APPRECIATED
URL:http://gspcluboforegon.org/event/gsp-specialty-shows/
LOCATION:Portland Exposition Center\, Portland\, OR\, United States
ORGANIZER;CN="GSP%20Club%20of%20Oregon":MAILTO:OregonGSP@aol.com
END:VEVENT
END:VCALENDAR