BEGIN:VCALENDAR
VERSION:2.0
PRODID:-//German Shorthaired Pointer Club of Oregon - ECPv5.8.0//NONSGML v1.0//EN
CALSCALE:GREGORIAN
METHOD:PUBLISH
X-WR-CALNAME:German Shorthaired Pointer Club of Oregon
X-ORIGINAL-URL:http://gspcluboforegon.org
X-WR-CALDESC:Events for German Shorthaired Pointer Club of Oregon
BEGIN:VTIMEZONE
TZID:America/Denver
BEGIN:DAYLIGHT
TZOFFSETFROM:-0700
TZOFFSETTO:-0600
TZNAME:MDT
DTSTART:20250309T090000
END:DAYLIGHT
BEGIN:STANDARD
TZOFFSETFROM:-0600
TZOFFSETTO:-0700
TZNAME:MST
DTSTART:20251102T080000
END:STANDARD
END:VTIMEZONE
BEGIN:VEVENT
DTSTART;VALUE=DATE:20250115
DTEND;VALUE=DATE:20250116
DTSTAMP:20260424T185106
CREATED:20250113T053657Z
LAST-MODIFIED:20250113T053657Z
UID:1064-1736899200-1736985599@gspcluboforegon.org
SUMMARY:GSPCO SPECIALTIES
DESCRIPTION:
URL:http://gspcluboforegon.org/event/gspco-specialties/
LOCATION:Portland Exposition Center\, Portland\, OR\, United States
END:VEVENT
END:VCALENDAR